BEGIN:VCALENDAR
VERSION:2.0
PRODID:-//wp-events-plugin.com//6.4.6.4//EN
TZID:America/New_York
X-WR-TIMEZONE:America/New_York
BEGIN:VEVENT
UID:31@jwf.org
DTSTART;TZID=America/New_York;VALUE=DATE:20230306
DTEND;TZID=America/New_York;VALUE=DATE:20230318
DTSTAMP:20230126T144235Z
URL:https://jwf.org/events/jwf-co-organizes-12-parallel-events-on-the-occa
 sion-of-the-un-commission-on-the-status-of-women-67th-session/
SUMMARY:JWF CO-ORGANIZES 12 PARALLEL EVENTS ON THE OCCASION OF THE UN COMMI
 SSION ON THE STATUS OF WOMEN 67TH SESSION
DESCRIPTION:[vc_row][vc_column][vc_custom_heading text="JWF CO-ORGANIZES 12
  PARALLEL EVENTS ON THE OCCASION OF THE\nUN COMMISSION ON THE STATUS OF WO
 MEN 67th SESSION\n6 – 17 March 2023 | NEW YORK" font_container="tag:h4|t
 ext_align:center" google_fonts="font_family:Montserrat%3Aregular%2C700|fon
 t_style:700%20bold%20regular%3A700%3Anormal" css=".vc_custom_1674743742748
 {margin-bottom: 5% !important\;}"][/vc_column][/vc_row][vc_row][vc_column]
 [vc_column_text]On the occasion of the 67th Session of the UN Commission o
 n the Status of Women (CSW67)\, the Journalists and Writers Foundation (JW
 F) is co-organizing 12 different parallel events\, both in-person and virt
 ual\, in partnership with impactful civil society organizations and educat
 ional institutions across the world\, including Greece\, India\, Romania\,
  UK\, and the USA.\n\nUN advocacy for women`s rights and working on innova
 tive policy suggestions\, civil society inputs to various intergovernmenta
 l agencies on the gender-sensitive implementation of the Sustainable Devel
 opment Goals are among the priority working areas for the Journalists and 
 Writers Foundation. To flourish women`s rights advocates meaningful partic
 ipation at the CSW 67th Session\, the JWF has organized year-long training
  sessions and empowerment programs for the delegations of women`s rights a
 dvocates and youth groups across the world to set a bridge to bring in the
 ir successful civil society contributions to different UN platforms.\n\nAs
  CSW67 is back with hybrid mode\, there is a great interest in participati
 on from our global partners to raise awareness of the status of women`s ri
 ghts in their own countries and to share civil society best practices. Thi
 s year\, we are also thrilled to be working with young advocates to highli
 ght their pivotal role in advancing women`s empowerment and girls’ educa
 tion. The JWF is collaborating with the PES University (India) undergradua
 te students from various majors and the Model UN Team of Triangle Math and
  Science Academy (TMSA) (USA / North Carolina) high school students to org
 anize youth-led CSW panels.\nList of CSW67 Parallel Events\nin collaborati
 on with JWF and its Global Partners\nEvent 1 – Protecting Women Human R
 ights Defenders for Sustainable Peace (In-Person)\n\nOrganizer: Journali
 sts and Writers Foundation (USA)\n\nDate/Time: 7 March 2023\, Tuesday (2:
 30pm – 4:00pm EST)\n\nVenue: Church Center for United Nations 8th Floo
 r\n\n 	United Nations Plaza (First Ave) New York\, NY 10017\n\nEvent 2 
 – Challenges and Opportunities for Refugee Women in Romania (Virtual)\n
 \nOrganizers: Association for Dialogue and Universal Values (Romania) –
  JWF (USA)\n\nDate/Time: 7 March 2023\, Tuesday (11:00am – 12:30pm EST)
 \n\nVenue: VIRTUAL\n\nEvent 3 – Intersectional Violence Against Women 
 in Turkey (In-Person)\n\nOrganizers: Set Them Free (USA) – Advocates o
 f Silenced Turkey (AST) – JWF (USA)\n\nDate/Time: 8 March 2023\, Wednes
 day (2:30om – 4:00pm EST)\n\nVenue: Church Center for United Nations 8t
 h Floor\n\n 	United Nations Plaza (First Ave) New York\, NY 10017\n\nEven
 t 4 – Violence Against Women Journalists around the World (Virtual)\n\
 nOrganizer: Journalists and Writers Foundation (USA)\n\nDate/Time: 9 Mar
 ch 2023\, Thursday (11:00am – 12:30pm EST)\n\nVenue: VIRTUAL\n\nEvent 5
  – Integration Policies for Successful Resettlement of Refugee Women in
  Greece (In-Person)\n\nOrganizers: PIGI (Greece) – JWF (USA)\n\nDate/T
 ime: 9 March 2023\, Thursday (2:30pm – 4:00pm EST)\n\nVenue: Church Ce
 nter for United Nations 10th Floor\n\n 	United Nations Plaza (First Ave) 
 New York\, NY 10017\n\nEvent 6 – Women`s Role in Nation Building: Empow
 er &amp\; Co-Power (Virtual)\n\nOrganizers: PES University (India) – J
 WF (USA)\n\nDate/Time: 9 March 2023\, Thursday (2:30pm – 4:00pm EST)\n\
 nVenue: VIRTUAL\n\nEvent 7 – Youth Activism for Gender Empowerment: He
 aring from Sheroes (Virtual)\n\nOrganizers: Set Them Free (USA) – JWF 
 (USA)\n\nDate/Time: 10 March 2023\, Friday (11:00am – 12:30pm EST)\n\nV
 enue: VIRTUAL\n\nEvent 8 – InnovaSHEon: Women`s Empowerment through In
 novation and Technology (Hybrid)\n\nOrganizers: JWF (USA) and Women Tech
 makers Bishkek (Kyrgyzstan)\n\nDate/Time: 11 March 2023\, Saturday (1:00a
 m – 2:30am EST)\n\nVenue: HYBRID\n\nEvent 9 – Global Solidarity to C
 ombat State-led Violence Against Women (Virtual)\n\nOrganizers: Set Them
  Free (USA) – JWF (USA)\n\nDate/Time: March 13\, Monday (11:00 – 12:3
 0 PM EST)\n\nVenue: VIRTUAL\n\nEvent 10 – The Role of STEM Education i
 n Achieving Gender Equality: Perspective of Youth (Virtual)\n\nOrganizers
 : Triangle Math and Science Academy (USA) – JWF (USA)\n\nDate/Time: 13
  March 2023\, Monday (4:00pm – 5:30pm EST)\n\nVenue: VIRTUAL\n\nEvent 1
 1 – Challenges and Best Practices of Women Refugees: Enforced Migration
  Stories (Virtual)\n\nOrganizers: PIGI (Greece) – JWF (USA)\n\nDate/Ti
 me: 14 March 2023\, Thursday (1:00pm – 2:30pm EST)\n\nVenue: VIRTUAL\n
 \nEvent 12 – Gender-Responsive Action for Climate Change Adaption and M
 itigation in the Digital Age (In-Person)\n\nOrganizers: Raindrop Foundat
 ion (USA) – JWF (USA)\n\nDate/Time: 16 March 2023\, Thursday (2:30pm 
 – 4:00pm EST)\,\n\nVenue: Church Center for United Nations 8th Floor\n
 \n 	United Nations Plaza (First Ave) New York\, NY 10017\n\n[/vc_column_te
 xt][/vc_column][/vc_row]
ATTACH;FMTTYPE=image/jpeg:https://jwf.org/wp-content/uploads/2023/01/occas
 ionofthecsw67.png
CATEGORIES:Commission on the Status of Women
LOCATION:The JWF New York Office\, 535 5th Ave Rm 601\, New York\, NY\, 100
 17\, United States
GEO:40.7548402;-73.97942160000002
X-APPLE-STRUCTURED-LOCATION;VALUE=URI;X-ADDRESS=535 5th Ave Rm 601\, New Yo
 rk\, NY\, 10017\, United States;X-APPLE-RADIUS=100;X-TITLE=The JWF New Yor
 k Office:geo:40.7548402,-73.97942160000002
END:VEVENT
BEGIN:VTIMEZONE
TZID:America/New_York
X-LIC-LOCATION:America/New_York
BEGIN:STANDARD
DTSTART:20221106T010000
TZOFFSETFROM:-0400
TZOFFSETTO:-0500
TZNAME:EST
END:STANDARD
BEGIN:DAYLIGHT
DTSTART:20230312T030000
TZOFFSETFROM:-0500
TZOFFSETTO:-0400
TZNAME:EDT
END:DAYLIGHT
END:VTIMEZONE
END:VCALENDAR